BEGIN:VCALENDAR
VERSION:2.0
PRODID:-//The Baltimore Station - ECPv6.6.1//NONSGML v1.0//EN
CALSCALE:GREGORIAN
METHOD:PUBLISH
X-ORIGINAL-URL:https://www.baltimorestation.org
X-WR-CALDESC:Events for The Baltimore Station
REFRESH-INTERVAL;VALUE=DURATION:PT1H
X-Robots-Tag:noindex
X-PUBLISHED-TTL:PT1H
BEGIN:VTIMEZONE
TZID:America/New_York
BEGIN:DAYLIGHT
TZOFFSETFROM:-0500
TZOFFSETTO:-0400
TZNAME:EDT
DTSTART:20250309T070000
END:DAYLIGHT
BEGIN:STANDARD
TZOFFSETFROM:-0400
TZOFFSETTO:-0500
TZNAME:EST
DTSTART:20251102T060000
END:STANDARD
END:VTIMEZONE
BEGIN:VEVENT
DTSTART;TZID=America/New_York:20250712T120000
DTEND;TZID=America/New_York:20250712T180000
DTSTAMP:20260423T085416
CREATED:20250527T162343Z
LAST-MODIFIED:20250527T162343Z
UID:10000224-1752321600-1752343200@www.baltimorestation.org
SUMMARY:South Baltimore Network's 21st Annual Golf Tournament
DESCRIPTION:
URL:https://www.baltimorestation.org/event/south-baltimore-networks-21st-annual-golf-tournament/
LOCATION:Oakmont Green Golf Course\, 2290 Golfview Ln\, Hampstead\, MD\, 21074\, United States
CATEGORIES:Event
ATTACH;FMTTYPE=image/jpeg:https://www.baltimorestation.org/wp-content/uploads/2025/05/2025-SBN-Golf-Flyer-scaled.jpg
GEO:39.6361508;-76.8570964
X-APPLE-STRUCTURED-LOCATION;VALUE=URI;X-ADDRESS=Oakmont Green Golf Course 2290 Golfview Ln Hampstead MD 21074 United States;X-APPLE-RADIUS=500;X-TITLE=2290 Golfview Ln:geo:-76.8570964,39.6361508
END:VEVENT
END:VCALENDAR